BEGIN:VCALENDAR
VERSION:2.0
PRODID:-//ಸಿರಿಗನ್ನಡಕೂಟ ಮ್ಯೂನಿಕ್ e.V. - ECPv6.15.20//NONSGML v1.0//EN
CALSCALE:GREGORIAN
METHOD:PUBLISH
X-WR-CALNAME:ಸಿರಿಗನ್ನಡಕೂಟ ಮ್ಯೂನಿಕ್ e.V.
X-ORIGINAL-URL:https://sirigannadakoota.org
X-WR-CALDESC:Events for ಸಿರಿಗನ್ನಡಕೂಟ ಮ್ಯೂನಿಕ್ e.V.
REFRESH-INTERVAL;VALUE=DURATION:PT1H
X-Robots-Tag:noindex
X-PUBLISHED-TTL:PT1H
BEGIN:VTIMEZONE
TZID:Europe/Berlin
BEGIN:DAYLIGHT
TZOFFSETFROM:+0100
TZOFFSETTO:+0200
TZNAME:CEST
DTSTART:20240331T010000
END:DAYLIGHT
BEGIN:STANDARD
TZOFFSETFROM:+0200
TZOFFSETTO:+0100
TZNAME:CET
DTSTART:20241027T010000
END:STANDARD
BEGIN:DAYLIGHT
TZOFFSETFROM:+0100
TZOFFSETTO:+0200
TZNAME:CEST
DTSTART:20250330T010000
END:DAYLIGHT
BEGIN:STANDARD
TZOFFSETFROM:+0200
TZOFFSETTO:+0100
TZNAME:CET
DTSTART:20251026T010000
END:STANDARD
BEGIN:DAYLIGHT
TZOFFSETFROM:+0100
TZOFFSETTO:+0200
TZNAME:CEST
DTSTART:20260329T010000
END:DAYLIGHT
BEGIN:STANDARD
TZOFFSETFROM:+0200
TZOFFSETTO:+0100
TZNAME:CET
DTSTART:20261025T010000
END:STANDARD
BEGIN:DAYLIGHT
TZOFFSETFROM:+0100
TZOFFSETTO:+0200
TZNAME:CEST
DTSTART:20270328T010000
END:DAYLIGHT
BEGIN:STANDARD
TZOFFSETFROM:+0200
TZOFFSETTO:+0100
TZNAME:CET
DTSTART:20271031T010000
END:STANDARD
END:VTIMEZONE
BEGIN:VTIMEZONE
TZID:Europe/Paris
BEGIN:DAYLIGHT
TZOFFSETFROM:+0100
TZOFFSETTO:+0200
TZNAME:CEST
DTSTART:20250330T010000
END:DAYLIGHT
BEGIN:STANDARD
TZOFFSETFROM:+0200
TZOFFSETTO:+0100
TZNAME:CET
DTSTART:20251026T010000
END:STANDARD
BEGIN:DAYLIGHT
TZOFFSETFROM:+0100
TZOFFSETTO:+0200
TZNAME:CEST
DTSTART:20260329T010000
END:DAYLIGHT
BEGIN:STANDARD
TZOFFSETFROM:+0200
TZOFFSETTO:+0100
TZNAME:CET
DTSTART:20261025T010000
END:STANDARD
BEGIN:DAYLIGHT
TZOFFSETFROM:+0100
TZOFFSETTO:+0200
TZNAME:CEST
DTSTART:20270328T010000
END:DAYLIGHT
BEGIN:STANDARD
TZOFFSETFROM:+0200
TZOFFSETTO:+0100
TZNAME:CET
DTSTART:20271031T010000
END:STANDARD
END:VTIMEZONE
BEGIN:VEVENT
DTSTART;TZID=Europe/Berlin:20250309T110000
DTEND;TZID=Europe/Berlin:20250309T170000
DTSTAMP:20260426T061837
CREATED:20250208T112129Z
LAST-MODIFIED:20250324T170511Z
UID:6375-1741518000-1741539600@sirigannadakoota.org
SUMMARY:International Womens Day 2025
DESCRIPTION:The most loved event of the year is finally here ✨🌸 Get ready for an unforgettable celebration filled with fun\, laughter & fabulous vibes with SKM e.V.💃🎶 \n\n\n\n\n\n\n\nHighlights:💃 Ladies only event (Ages 12 years onwards).🎭 Play\, Mingle\, Inspire & get Inspired.🍛 Enjoy delicious food at delightful selection of food stalls at affordable prices.💃🏻 Get moving with fitness dance.🎧 Groove to the beats of a professional DJ.💬 No language barrier – just good vibes & great company! \n\n\n\nDress code:👗Sequins or Sparkly Attire (Not mandatory\, its your day dress as you wish) \n\n\n\nEntry:SKM e.V. Members – FREE Entry (Ticket booking Mandatory)Non Members (18 years and above) – 5 eurosKids only 12-18 years FREE entry (Ticket booking mandatory) \n\n\n\nDate & Time:March 9th\, 2025 @ 11:00AM to 5:00PM(Entry starts at 10:30AM) \n\n\n\n\nSold Out\n\n\n\n\nVenue:Quiddestraße 4\, 81735 München
URL:https://sirigannadakoota.org/event/international-womens-day-2025/
LOCATION:Quiddestraße 4\, 81735 München\, Quiddestraße 4\, Munich\, Baveria\, Germany
END:VEVENT
BEGIN:VEVENT
DTSTART;TZID=Europe/Berlin:20250419T120000
DTEND;TZID=Europe/Berlin:20250419T190000
DTSTAMP:20260426T061838
CREATED:20250324T185536Z
LAST-MODIFIED:20250418T135746Z
UID:6712-1745064000-1745089200@sirigannadakoota.org
SUMMARY:Ugadi Ullasa 2025
DESCRIPTION:🌿Celebrate Ugadi – Kannada New Year with Us!🌿 \n\n\n\nUgadi marks the beginning of a new year in the Kannada calendar\, symbolizing new beginnings\, prosperity\, and growth. It is a time to embrace positivity\, reflect on the past\, and set new aspirations while seeking blessings for a fruitful year ahead. \n\n\n\nEvent Highlights:✨ Ugadi Pooje: Take part in a traditional Ugadi pooja\, invoking blessings for happiness and success.🎤 Talent Show: Showcase your skills in music\, dance\, drama\, or any talent you wish to share!🎶 Kannada Karaoke: Sing your heart out with your favorite Kannada songs!🎯 Fun & Games: Enjoy exciting games and activities for all ages.🍛 Habbada Oota: Relish a delicious traditional Ugadi feast from Karnataka! \n\n\n\n🤝 Banni\, let’s celebrate Ugadi together with joy and enthusiasm! 🎉 \n\n\n\nEvent Details:📍 Venue: Bezirkssportanlage Freimann\, Burmesterstraße 27\, 80939 München🗓️ Date: April 19th\, 2025⏰ Time: 2:30PM to 7:00PM📝 Registrations Open: Sharp at 2:00PM \n\n\n\n\nSold Out
URL:https://sirigannadakoota.org/event/ugadi-2025/
LOCATION:Bezirkssportanlage Freimann\, Burmesterstraße 27\, Munich\, 80939\, Germany
END:VEVENT
BEGIN:VEVENT
DTSTART;TZID=Europe/Berlin:20250831T110000
DTEND;TZID=Europe/Berlin:20250831T160000
DTSTAMP:20260426T061838
CREATED:20250729T200833Z
LAST-MODIFIED:20250830T182606Z
UID:6836-1756638000-1756656000@sirigannadakoota.org
SUMMARY:Ganeshotsava 2025
DESCRIPTION:ಗಣೇಶೋತ್ಸವ 2025ನಗು\, ನಾದ\, ಭಕ್ತಿ\, ಬಣ್ಣ ಮತ್ತು ಬಾಂಧವ್ಯ ತುಂಬುವ ಸಂಭ್ರಮದ ಹಬ್ಬ!🐘 Ganesha is back and so is the joy that follows him. With the chant of “ಓಂ ಶ್ರೀ ಗಣೇಶಾಯ ನಮಃ” 🙏 let’s welcome the remover of obstacles and the bringer of peace.Join us for Ganeshotsava\, a day where devotion meets celebration\, hearts come together and tradition blesses us with warmth and togetherness.✨ \n\n\n\nEvent Highlights:✨ Participate in the divine Ganesha Pooje🎶 Immerse yourself in soul-soothing music🎯 Take part in fun-filled games🌊 Witness the grand Ganapathi Visarjane🍛 Relish the sacred and delicious PrasadaEvent Details:📍 Venue: EineWeltHaus\, Schwanthalerstraße 80\, 80336 München🗓️ Date: August 31st\, 2025\, Sunday⏰ Time: 11:00AM to 4:00PM📝 Registrations Open: Sharp at 10:00AM \n\n\n\n\nSold Out!
URL:https://sirigannadakoota.org/event/ganeshotsava-2025/
LOCATION:EineWeltHaus\, Schwanthalerstrasse 80\, Munich\, Bavaria\, 80336\, Germany
END:VEVENT
BEGIN:VEVENT
DTSTART;TZID=Europe/Berlin:20251122T100000
DTEND;TZID=Europe/Berlin:20251122T170000
DTSTAMP:20260426T061838
CREATED:20251014T184856Z
LAST-MODIFIED:20251124T193836Z
UID:6935-1763805600-1763830800@sirigannadakoota.org
SUMMARY:Sambhrama 2025
DESCRIPTION:🎉 Namaskara Munich! 🙏We’re super excited to invite you and your loved ones to join us in celebrating Karnataka Rajyotsava – the Foundation Day of our beloved Karnataka ❤️💛 right here in Munich!For the past 14 wonderful years\, Sirigannada Koota Munich e.V. — one of the first and oldest Kannada communities in Germany — has been proudly celebrating the spirit of Karnataka through our signature event\, ✨SAMBHRAMA✨.💫 SAMBHRAMA isn’t just an event — it’s an emotion! It’s where we celebrate our roots\, language\, music\, and togetherness. SKM is our home away from home\, a place where Karnataka lives on in Munich! 🏡❤️💛So\, come be part of this grand celebration of culture\, community\, and unity\, and let’s paint Munich red and yellow once again! 🎊🎈Be There\, Be Proud\, Be Kannadiga! ❤️💛\n\n\n\nEvent Details:📍 Venue: Quiddestraße 4\, 81735 München🗓️ Date: Saturday\, 22 November 2025⏰ Time: 10:00AM📝 Registrations Open: Sharp at 9:30AM \n\n\n\n\nSold Out
URL:https://sirigannadakoota.org/event/sambhrama-2025/
LOCATION:Quiddestraße 4\, 81735 München\, Quiddestraße 4\, Munich\, Baveria\, Germany
END:VEVENT
BEGIN:VEVENT
DTSTART;TZID=Europe/Paris:20260207T100000
DTEND;TZID=Europe/Paris:20260207T160000
DTSTAMP:20260426T061838
CREATED:20240129T195544Z
LAST-MODIFIED:20260119T182621Z
UID:4479-1770458400-1770480000@sirigannadakoota.org
SUMMARY:Sirigannadakoota Munich e.V. – AGM 2026
DESCRIPTION:Sirigannadakoota Munich e.V. will hold its Annual General Meeting (AGM) 2026 on 7th February 2026. \n\n\n\nAGMನಲ್ಲಿ\, ಕಳೆದ ವರ್ಷದ activities\, financial summary\, ಮತ್ತು ಮುಂದಿನ ಯೋಜನೆಗಳ ಬಗ್ಗೆ ಸದಸ್ಯರಿಗೆ ಮಾಹಿತಿ ನೀಡಲಾಗುತ್ತದೆ. This meeting gives members a chance to understand the association’s progress\, ask questions\, and share their suggestions. \n\n\n\nAll registered members are encouraged to attend and actively take part in this important meeting. \n\n\n\nAGM is followed by the SKM’s 3rd Board Election. For more details visit “Sirigannadakoota Munich e.V. – 3rd Board Elections (2026–2028)” \n\n\n\nNot a member yet and want to be part of AGM and upcoming events? Click the below link to \n\n\n\n\nBecome SKM Member Now!\n\n\n\n\nPlease register and confirm your attendence for “AGM 2026” and “Board Elections 2026 – 2028” below \n\n\n\n\nRegister Now!\n\n\n\n\nNote: The registration is for both AGM and Elections 07.02.2024\, 10:00 AM – 04:00 PM at Eine Welt Haus
URL:https://sirigannadakoota.org/event/agm-2026/
LOCATION:EineWeltHaus\, Schwanthalerstraße 80\, München\, Bavaria\, 80336\, Germany
ORGANIZER;CN="Sirigannadakoota Munich e.V":MAILTO:events@sirigannadakoota.org
END:VEVENT
BEGIN:VEVENT
DTSTART;TZID=Europe/Paris:20260207T100000
DTEND;TZID=Europe/Paris:20260207T160000
DTSTAMP:20260426T061838
CREATED:20240130T092541Z
LAST-MODIFIED:20260119T182434Z
UID:4490-1770458400-1770480000@sirigannadakoota.org
SUMMARY:Sirigannadakoota Munich e.V. – 3rd Board Elections (2026–2028)
DESCRIPTION:Sirigannadakoota Munich e.V. will hold its 3rd Board Elections for the period 2026–2028 on 7th February 2026. \n\n\n\nಈ ದಿನ ನಾವು ನಮ್ಮ ಸಂಘಟನೆಯ ಮುಂದಿನ ಎರಡು ವರ್ಷಗಳನ್ನು ಮುನ್ನಡೆಸುವ Board of Directors ಅನ್ನು ಆಯ್ಕೆ ಮಾಡುತ್ತೇವೆ. This is an important event where registered members come together to choose leaders who will support and grow our Kannada community in Munich. \n\n\n\nLeadership ಆಸಕ್ತಿ ಇರುವ ಸದಸ್ಯರು ಮುಂದೆ ಬರಲು ನಾವು ಸ್ವಾಗತಿಸುತ್ತೇವೆ\, ಮತ್ತು ಎಲ್ಲಾ ಅರ್ಹ ಸದಸ್ಯರು ಮತದಾನದಲ್ಲಿ ಭಾಗವಹಿಸಲು ಮನವಿ ಮಾಡುತ್ತೇವೆ. \n\n\n\nಒಟ್ಟಾಗಿ\, ನಮ್ಮ ಸಂಸ್ಕೃತಿ\, ಭಾಷೆ ಮತ್ತು ಒಗ್ಗಟ್ಟನ್ನು ಬಲಪಡಿಸುತ್ತಾ Sirigannadakoota Munich e.V. ಅನ್ನು ಇನ್ನಷ್ಟು ಮುಂದಕ್ಕೆ ಕೊಂಡೊಯ್ಯೋಣ.
URL:https://sirigannadakoota.org/event/board-election-2026/
LOCATION:EineWeltHaus\, Schwanthalerstraße 80\, München\, Bavaria\, 80336\, Germany
ORGANIZER;CN="Sirigannadakoota Munich e.V":MAILTO:events@sirigannadakoota.org
END:VEVENT
BEGIN:VEVENT
DTSTART;TZID=Europe/Berlin:20260313T160000
DTEND;TZID=Europe/Berlin:20260313T210000
DTSTAMP:20260426T061838
CREATED:20260216T184212Z
LAST-MODIFIED:20260312T174641Z
UID:7589-1773417600-1773435600@sirigannadakoota.org
SUMMARY:International Womens Day 2026
DESCRIPTION:✨🎉 The Most Loved Event of the Year Is Finally Here! 🎉✨💃🌸 Get ready for an unforgettable celebration filled with🎶fun\, 😂 laughter & 💖 fabulous vibes — all with SKM e.V.!🌟 Gather your friends\, bring your energy\, and let’s make beautiful memories together! 🌟 \n\n\n\n\n\n\n\n✨ Highlights ✨💖 Ladies-only event(Age 12 years & above)🎤 Inspiring talk by a well-recognized career coaching expert🍽️ Delicious food included within the ticket price🎉 Fun games\, exciting activities & amazing prizes🎁 Special gifts for all attendees🎶 Professional DJ💫 No language barriers – just good vibes & great company!👗 Dress CodeNo dress code – wear your vibe and shine your way! ✨🎟️ Entry🌸 SKM e.V. Members – 10 Euros🌼 Non-Members – 15 Euros \n\n\n\n\nSold out\n\n\n\n\n📍✨ Venue Details ✨📍🏢 Venue: Suhag Indisches Restaurant📌 St.-Martin-Straße 58–68\, 81541 München🗓️ Date: Friday\, 13 March 2026⏰ Time: 4:00 PM onwards📝 Registrations Open: 3:30 PM
URL:https://sirigannadakoota.org/event/international-womens-day-2026/
END:VEVENT
BEGIN:VEVENT
DTSTART;TZID=Europe/Berlin:20260425T090000
DTEND;TZID=Europe/Berlin:20260425T130000
DTSTAMP:20260426T061838
CREATED:20260402T103431Z
LAST-MODIFIED:20260421T113419Z
UID:7862-1777107600-1777122000@sirigannadakoota.org
SUMMARY:Ugadi Ullasa 2026
DESCRIPTION:Ugadi marks a fresh new start\, a year of hope and cheer\,A time to dream\, to grow\, to welcome all that’s near.With blessings\, joy\, and positivity lighting every way\,May prosperity and happiness bloom with each new day. \n\n\n\nEvent Highlights:🪔 Ugadi Pooja: Take part in a traditional Ugadi pooja\, shloka and seek blessings for happiness\, health\, and success.👗 Kids’ Fashion Show: Watch our little stars shine in traditional attire\, beautifully showcasing the richness of Kannada culture.🎭 Performances: Enjoy a variety of performances presented by our talented community members.🎯 Fun & Games: Take part in exciting games and activities designed for all age groups.🍛 Habbada Oota: Relish a delicious\, authentic Ugadi feast from Karnataka! \n\n\n\n\n\n\nSold Out!\n\n\n\n\nEvent Details:📍 Venue: EineWeltHaus\, Schwanthalerstraße 80\, 80336 München🗓️ Date: April 25th\, 2026⏰ Time: 9:00AM to 1:00PM📝 Registrations Open: Sharp at 9:00AM
URL:https://sirigannadakoota.org/event/ugadi-2026/
END:VEVENT
END:VCALENDAR