BEGIN:VCALENDAR
VERSION:2.0
PRODID:-//ಸಿರಿಗನ್ನಡಕೂಟ ಮ್ಯೂನಿಕ್ e.V. - ECPv6.15.20//NONSGML v1.0//EN
CALSCALE:GREGORIAN
METHOD:PUBLISH
X-WR-CALNAME:ಸಿರಿಗನ್ನಡಕೂಟ ಮ್ಯೂನಿಕ್ e.V.
X-ORIGINAL-URL:https://sirigannadakoota.org
X-WR-CALDESC:Events for ಸಿರಿಗನ್ನಡಕೂಟ ಮ್ಯೂನಿಕ್ e.V.
REFRESH-INTERVAL;VALUE=DURATION:PT1H
X-Robots-Tag:noindex
X-PUBLISHED-TTL:PT1H
BEGIN:VTIMEZONE
TZID:Europe/Berlin
BEGIN:DAYLIGHT
TZOFFSETFROM:+0100
TZOFFSETTO:+0200
TZNAME:CEST
DTSTART:20250330T010000
END:DAYLIGHT
BEGIN:STANDARD
TZOFFSETFROM:+0200
TZOFFSETTO:+0100
TZNAME:CET
DTSTART:20251026T010000
END:STANDARD
BEGIN:DAYLIGHT
TZOFFSETFROM:+0100
TZOFFSETTO:+0200
TZNAME:CEST
DTSTART:20260329T010000
END:DAYLIGHT
BEGIN:STANDARD
TZOFFSETFROM:+0200
TZOFFSETTO:+0100
TZNAME:CET
DTSTART:20261025T010000
END:STANDARD
BEGIN:DAYLIGHT
TZOFFSETFROM:+0100
TZOFFSETTO:+0200
TZNAME:CEST
DTSTART:20270328T010000
END:DAYLIGHT
BEGIN:STANDARD
TZOFFSETFROM:+0200
TZOFFSETTO:+0100
TZNAME:CET
DTSTART:20271031T010000
END:STANDARD
END:VTIMEZONE
BEGIN:VEVENT
DTSTART;TZID=Europe/Berlin:20260313T160000
DTEND;TZID=Europe/Berlin:20260313T210000
DTSTAMP:20260421T220915
CREATED:20260216T184212Z
LAST-MODIFIED:20260312T174641Z
UID:7589-1773417600-1773435600@sirigannadakoota.org
SUMMARY:International Womens Day 2026
DESCRIPTION:✨🎉 The Most Loved Event of the Year Is Finally Here! 🎉✨💃🌸 Get ready for an unforgettable celebration filled with🎶fun\, 😂 laughter & 💖 fabulous vibes — all with SKM e.V.!🌟 Gather your friends\, bring your energy\, and let’s make beautiful memories together! 🌟 \n\n\n\n\n\n\n\n✨ Highlights ✨💖 Ladies-only event(Age 12 years & above)🎤 Inspiring talk by a well-recognized career coaching expert🍽️ Delicious food included within the ticket price🎉 Fun games\, exciting activities & amazing prizes🎁 Special gifts for all attendees🎶 Professional DJ💫 No language barriers – just good vibes & great company!👗 Dress CodeNo dress code – wear your vibe and shine your way! ✨🎟️ Entry🌸 SKM e.V. Members – 10 Euros🌼 Non-Members – 15 Euros \n\n\n\n\nSold out\n\n\n\n\n📍✨ Venue Details ✨📍🏢 Venue: Suhag Indisches Restaurant📌 St.-Martin-Straße 58–68\, 81541 München🗓️ Date: Friday\, 13 March 2026⏰ Time: 4:00 PM onwards📝 Registrations Open: 3:30 PM
URL:https://sirigannadakoota.org/event/international-womens-day-2026/
END:VEVENT
BEGIN:VEVENT
DTSTART;TZID=Europe/Berlin:20260425T090000
DTEND;TZID=Europe/Berlin:20260425T130000
DTSTAMP:20260421T220915
CREATED:20260402T103431Z
LAST-MODIFIED:20260421T113419Z
UID:7862-1777107600-1777122000@sirigannadakoota.org
SUMMARY:Ugadi Ullasa 2026
DESCRIPTION:Ugadi marks a fresh new start\, a year of hope and cheer\,A time to dream\, to grow\, to welcome all that’s near.With blessings\, joy\, and positivity lighting every way\,May prosperity and happiness bloom with each new day. \n\n\n\nEvent Highlights:🪔 Ugadi Pooja: Take part in a traditional Ugadi pooja\, shloka and seek blessings for happiness\, health\, and success.👗 Kids’ Fashion Show: Watch our little stars shine in traditional attire\, beautifully showcasing the richness of Kannada culture.🎭 Performances: Enjoy a variety of performances presented by our talented community members.🎯 Fun & Games: Take part in exciting games and activities designed for all age groups.🍛 Habbada Oota: Relish a delicious\, authentic Ugadi feast from Karnataka! \n\n\n\n\n\n\nSold Out!\n\n\n\n\nEvent Details:📍 Venue: EineWeltHaus\, Schwanthalerstraße 80\, 80336 München🗓️ Date: April 25th\, 2026⏰ Time: 9:00AM to 1:00PM📝 Registrations Open: Sharp at 9:00AM
URL:https://sirigannadakoota.org/event/ugadi-2026/
END:VEVENT
END:VCALENDAR